BEGIN:VCALENDAR
VERSION:2.0
PRODID:-//MJC Mergener Hof - ECPv6.15.20//NONSGML v1.0//EN
CALSCALE:GREGORIAN
METHOD:PUBLISH
X-WR-CALNAME:MJC Mergener Hof
X-ORIGINAL-URL:https://mjctrier.de
X-WR-CALDESC:Veranstaltungen für MJC Mergener Hof
REFRESH-INTERVAL;VALUE=DURATION:PT1H
X-Robots-Tag:noindex
X-PUBLISHED-TTL:PT1H
BEGIN:VTIMEZONE
TZID:Europe/Berlin
BEGIN:DAYLIGHT
TZOFFSETFROM:+0100
TZOFFSETTO:+0200
TZNAME:CEST
DTSTART:20230326T010000
END:DAYLIGHT
BEGIN:STANDARD
TZOFFSETFROM:+0200
TZOFFSETTO:+0100
TZNAME:CET
DTSTART:20231029T010000
END:STANDARD
BEGIN:DAYLIGHT
TZOFFSETFROM:+0100
TZOFFSETTO:+0200
TZNAME:CEST
DTSTART:20240331T010000
END:DAYLIGHT
BEGIN:STANDARD
TZOFFSETFROM:+0200
TZOFFSETTO:+0100
TZNAME:CET
DTSTART:20241027T010000
END:STANDARD
BEGIN:DAYLIGHT
TZOFFSETFROM:+0100
TZOFFSETTO:+0200
TZNAME:CEST
DTSTART:20250330T010000
END:DAYLIGHT
BEGIN:STANDARD
TZOFFSETFROM:+0200
TZOFFSETTO:+0100
TZNAME:CET
DTSTART:20251026T010000
END:STANDARD
END:VTIMEZONE
BEGIN:VEVENT
DTSTART;TZID=Europe/Berlin:20241005T200000
DTEND;TZID=Europe/Berlin:20241005T230000
DTSTAMP:20260420T145834
CREATED:20240910T122827Z
LAST-MODIFIED:20240910T122827Z
UID:7836-1728158400-1728169200@mjctrier.de
SUMMARY:COMEDY SLAM
DESCRIPTION:Der Trierer Comedy Slam ist nach der Sommerpause wieder zurück. Ein Wettbewerb\, der es sich zur Aufgabe gemacht hat\, komische Talente zu fördern und die Lachmuskeln des Publikums zu strapazieren. Dieser Wettstreit ist offen für jedermann\, mit vollem Risiko und immer ohne Deckung. Newcomer machen hier ihre ersten Schritte\, etablierte Comedians testen auf unserer Bühne ihr neues Material – oft zum ersten Mal und manchmal auch zum letzten Mal. Manchmal teilen sie aus – manchmal holen sie sich ein blaues Auge. \nJeder Künstler hat max. 10 min\, die Zuschauer zu überzeugen. Das lachende Publikum wählt den Sieger per Applaus. \nDas Line-Up:\nMichael Ulbts – Köln\nMichael Ulbts ist bereits seit vielen Jahren als Stand-up-Comedian und Moderator tätig. Der gebürtige Ostfriese ist bekannt durch Auftritte mit seinem Soloprogramm\, diversen TV-Auftritten (Quatsch Comedy Club\, NDR Comedy Contest\, Cindy aus Marzahn und die jungen Wilden etc.) sowie bei vielen Mix Shows (BOING! Comedy Club\, Quatsch Comedy Club\, NightWash u. v. m.) deutschlandweit. Während der Pandemie ging der Wahlkölner neue Wege und wurde außerdem Buchautor. Das erste Buch des mit mehreren Kleinkunstpreisen ausgezeichneten Künstlers beschreibt eine Wanderung von Köln nach Trier: „Der Wanderidiot“. \nSteffen Vorholt – Köln\n„Ich bin Steffen\, 29 Jahre jung\, komme ursprünglich aus Recklinghausen\, lebe nun in der Comedyhochburg Köln.“ Seit 2019 ist er auf unzähligen Bühnen zu erleben sowohl als Comedian als auch als Moderator für Shows. Mittlerweile sogar mit eigenem Open Mic in Köln (Comedy Eiskalt) und einer Comedy Improshow in Dortmund (Brainloading). Nach ewigen Singledasein ist ein Thema seines abwechslungsreichen Programms das neue Leben mit wundervoller Partnerin.:) \nAlex Veltens – Koblenz\nAuf Wikipedia liest man über Alex Veltens: Selten sah die Welt einen solch kometenhaften Aufstieg. Ein junger\, attraktiver\, smarter und wortgewandter Comedy-Neuling\, der die komplette Szene auf den Kopf stellt und auf gar keinen Fall diesen Text selbst geschrieben hat. \nSebastian Bungert – Saarbrücken\nKurzgeschichten\, mal trocken\, mal nachdenlich\, aber immer irre komisch\, vor allem mitten aus dem Leben. Da bleibt kein Auge trocken. \nNewcomer:\nChristoph Pitsch – Trier\nTagsüber als seriöser Anwalt unterwegs\, bringt er abends die besten Pointen mit. \nEinlass: 19.30 Uhr\, Beginn: 20:00 Uhr \nTickets gibt es an allen Vorverkaufsstellen von Ticket-Regional und unter folgendem Link.
URL:https://mjctrier.de/event/comedy-slam/
LOCATION:Mergener Hof\, Rindertanzstr. 4\, Trier\, 54290\, Deutschland
CATEGORIES:Vortrag
ATTACH;FMTTYPE=image/png:https://mjctrier.de/wp-content/uploads/Michael-Ulbts_ComedySlam_Website.png
ORGANIZER;CN="Kulturraum Trier":MAILTO:kultur@kulturraumtrier.de
END:VEVENT
BEGIN:VEVENT
DTSTART;TZID=Europe/Berlin:20241024T200000
DTEND;TZID=Europe/Berlin:20241024T223000
DTSTAMP:20260420T145834
CREATED:20240417T111126Z
LAST-MODIFIED:20240417T111640Z
UID:7577-1729800000-1729809000@mjctrier.de
SUMMARY:COREMY
DESCRIPTION:Coremy – „RASIERT – wenn es sein muss\, auch sich selbst.“ \nEinlass: 19:30 Uhr\, Beginn: 20:00 Uhr\nTicket-Link \nAber lieber singt sie: von ihrem Leben als Musik-Comedian und queere Frau\, Körperbehaarung oder den Widersprüchen der Generation Z. Ihre Texte sind rotzfrech\, poetisch und schreiend komisch. Sich selbst begleitend am Klavier\, der Gitarre oder auf der Okarina singt sie mit engelsgleicher Stimme über die brennenden Fragen einer jungen Frau: mache ich noch ein unbezahltes Praktikum oder werde ich einfach berühmt? Warum sind Frauen nicht nett zueinander? Darf man Küken schreddern? Und – muss ich mir dafür vorher die Beine rasieren…?! \nCoremy (24) ist im Internet bereits ein Star: millionenfach geklickte Videos auf TikTok und um ein Haar stolze Verliererin des ESC. Außerdem schreibt sie für die heute show (ZDF) und ist Jurorin des Grimme-Preises. Mit ihren bunten Hemden\, Bandana im Haar und einem breiten Grinsen im Gepäck bereist sie nun das Land\, singt und erzählt ihre Geschichten: in ihrem neuen Live-Programm „RASIERT“!
URL:https://mjctrier.de/event/coremy/
LOCATION:Mergener Hof\, Rindertanzstr. 4\, Trier\, 54290\, Deutschland
ATTACH;FMTTYPE=image/jpeg:https://mjctrier.de/wp-content/uploads/Coremy-2.jpg
ORGANIZER;CN="Kulturraum Trier":MAILTO:kultur@kulturraumtrier.de
END:VEVENT
END:VCALENDAR