BEGIN:VCALENDAR
VERSION:2.0
PRODID:-//MJC Mergener Hof - ECPv6.15.20//NONSGML v1.0//EN
CALSCALE:GREGORIAN
METHOD:PUBLISH
X-WR-CALNAME:MJC Mergener Hof
X-ORIGINAL-URL:https://mjctrier.de
X-WR-CALDESC:Veranstaltungen für MJC Mergener Hof
REFRESH-INTERVAL;VALUE=DURATION:PT1H
X-Robots-Tag:noindex
X-PUBLISHED-TTL:PT1H
BEGIN:VTIMEZONE
TZID:Europe/Berlin
BEGIN:DAYLIGHT
TZOFFSETFROM:+0100
TZOFFSETTO:+0200
TZNAME:CEST
DTSTART:20230326T010000
END:DAYLIGHT
BEGIN:STANDARD
TZOFFSETFROM:+0200
TZOFFSETTO:+0100
TZNAME:CET
DTSTART:20231029T010000
END:STANDARD
BEGIN:DAYLIGHT
TZOFFSETFROM:+0100
TZOFFSETTO:+0200
TZNAME:CEST
DTSTART:20240331T010000
END:DAYLIGHT
BEGIN:STANDARD
TZOFFSETFROM:+0200
TZOFFSETTO:+0100
TZNAME:CET
DTSTART:20241027T010000
END:STANDARD
BEGIN:DAYLIGHT
TZOFFSETFROM:+0100
TZOFFSETTO:+0200
TZNAME:CEST
DTSTART:20250330T010000
END:DAYLIGHT
BEGIN:STANDARD
TZOFFSETFROM:+0200
TZOFFSETTO:+0100
TZNAME:CET
DTSTART:20251026T010000
END:STANDARD
END:VTIMEZONE
BEGIN:VEVENT
DTSTART;TZID=Europe/Berlin:20241207T200000
DTEND;TZID=Europe/Berlin:20241207T230000
DTSTAMP:20260420T120441
CREATED:20241203T130037Z
LAST-MODIFIED:20241203T130037Z
UID:7992-1733601600-1733612400@mjctrier.de
SUMMARY:COMEDY SLAM
DESCRIPTION:168.Trierer Comedy Slam\nDer Wettstreit der Humorkünstler im Mergener Hof \nEinlass: 19:30 Uhr\, Beginn: 20:00 Uhr \nDer Trierer Comedy Slam ist ein Wettbewerb\, der es sich zur Aufgabe gemacht hat\, komische Talente zu fördern und die Lachmuskeln des Publikums zu strapazieren. Dieser Wettstreit ist offen für jedermann\, mit vollem Risiko und immer ohne Deckung. Newcomer machen hier ihre ersten Schritte\, etablierte Comedians testen auf unserer Bühne ihr neues Material – oft zum ersten Mal und manchmal auch zum letzten Mal. Manchmal teilen sie aus – manchmal holen sie sich ein blaues Auge.\nJeder Künstler hat max. 10 min\, die Zuschauer zu überzeugen. Das lachende Publikum wählt den Sieger per Applaus. \nAmanda Urban – FFM\nAmanda Urban lebt in Frankfurt und macht Comedy seit 2020. Vor über einem Jahrzehnt ist sie vom süddeutschen Bauernhof in die Stadt gezogen. Sie liebt das Großstadtleben\, denn auf Asphalt wachsen keine Kartoffeln. Ihr safe-space ist Frankfurt Hauptbahnhof. Doch das mit dem Big-City-Life ist gar nicht so ohne\, selbst für ein hart gekochtes Landei. Wie sie mit dem Großstadt-Dschungel und ihrem Dasein als Comedienne in einer Männer-Domäne klarkommt\, erzählt sie euch am besten selbst. \nTayfun Babayigit – Bonn\nTayfun ist 43 Jahre alt\, tagsüber Physiotherapeut und steht als Newcomer in der Comedy-Szene auf der Bühne. Seine Auftritte spiegeln seinen Alltag wieder und dienen auch als Eigentherapie\, in der er humorvoll seine Erlebnisse mit Patienten\, Freunden und Familie verarbeitet. Lachen ist schließlich die beste Therapie! \nBea Herzog – Mainz\nComedienne bei Nacht und Psychotherapeutin am Tag. Bea Herzog verbindet therapeutische Themen und Humor auf der Bühne. Keine menschliche Regung ist ihr fremd und diese Momente fängt sie ein\, um sie dann mit dem Publikum zu zelebrieren. Comedy und Therapie mit Bea Herzog ist witzgeladen\, niemals stocksteif und bricht smart mit Tabus. Und wenn alle Stricke reißen\, scheut sie auch keinen wohlgesetzten Pimmelwitz. \nJan Michels – Köln\nJan kommt vom Land. Und das so richtig. Immerhin EINTAUSEND Einwohner. Irgendwann musste er da unbedingt raus und reiste mit Straßenmusik viel durch die Weltgeschichte. Nun verarbeitet er seine Zeit auf dem Land in Songs und erzählt auch\, warum man sich als Straßenmusiker manchmal wie ein mobiler Beichtstuhl fühlt. Dabei dürfen die „Lalalala-Parts“ zum Mitsingen natürlich nicht fehlen. Musik Comedy vom feinsten\, eben ;). Newcomerin \nAnne Bredimus – Blieskastel\nAnne ist tagsüber Medizinstudentin und abends Comedian – oder betreibt\, wie sie es nennt\, „Selbsttherapie mit Publikum“. Ihre Comedy mixt Storytelling mit Beobachtungshumor und trifft immer mitten ins Schwarze\, weil sie am liebsten über sich selbst lacht. Anne stammt ursprünglich aus Luxemburg\, ist jedoch mittlerweile nach Deutschland ausgewandert. Seit ihrem Comedydepüt im Februar jongliert sie auf der Bühne mit englischen und deutschen Pointen und nutzt ihre Mehrsprachigkeit\, um noch mehr Leute zum Lachen zu bringen. \nTickets:\nhttp://www.ticket-regional.de
URL:https://mjctrier.de/event/comedy-slam-3/
LOCATION:Mergener Hof\, Rindertanzstr. 4\, Trier\, 54290\, Deutschland
CATEGORIES:Vortrag
ATTACH;FMTTYPE=image/jpeg:https://mjctrier.de/wp-content/uploads/Comedy_Slam.jpg
ORGANIZER;CN="Kulturraum Trier":MAILTO:kultur@kulturraumtrier.de
END:VEVENT
END:VCALENDAR