BEGIN:VCALENDAR
VERSION:2.0
PRODID:-//MJC Mergener Hof - ECPv6.15.20//NONSGML v1.0//EN
CALSCALE:GREGORIAN
METHOD:PUBLISH
X-WR-CALNAME:MJC Mergener Hof
X-ORIGINAL-URL:https://mjctrier.de
X-WR-CALDESC:Veranstaltungen für MJC Mergener Hof
REFRESH-INTERVAL;VALUE=DURATION:PT1H
X-Robots-Tag:noindex
X-PUBLISHED-TTL:PT1H
BEGIN:VTIMEZONE
TZID:Europe/Berlin
BEGIN:DAYLIGHT
TZOFFSETFROM:+0100
TZOFFSETTO:+0200
TZNAME:CEST
DTSTART:20230326T010000
END:DAYLIGHT
BEGIN:STANDARD
TZOFFSETFROM:+0200
TZOFFSETTO:+0100
TZNAME:CET
DTSTART:20231029T010000
END:STANDARD
BEGIN:DAYLIGHT
TZOFFSETFROM:+0100
TZOFFSETTO:+0200
TZNAME:CEST
DTSTART:20240331T010000
END:DAYLIGHT
BEGIN:STANDARD
TZOFFSETFROM:+0200
TZOFFSETTO:+0100
TZNAME:CET
DTSTART:20241027T010000
END:STANDARD
BEGIN:DAYLIGHT
TZOFFSETFROM:+0100
TZOFFSETTO:+0200
TZNAME:CEST
DTSTART:20250330T010000
END:DAYLIGHT
BEGIN:STANDARD
TZOFFSETFROM:+0200
TZOFFSETTO:+0100
TZNAME:CET
DTSTART:20251026T010000
END:STANDARD
END:VTIMEZONE
BEGIN:VEVENT
DTSTART;TZID=Europe/Berlin:20241010T190000
DTEND;TZID=Europe/Berlin:20241010T230000
DTSTAMP:20260420T114624
CREATED:20240417T100424Z
LAST-MODIFIED:20240910T125320Z
UID:7569-1728586800-1728601200@mjctrier.de
SUMMARY:STEVE'N' SEAGULLS
DESCRIPTION:Contra Promotion und Mergener Hof präsentieren: \nSteve ’n‘ Seagulls„More Than A Tour 2024“ \nEinlass: 19:00 Uhr\, Beginn: 20:00 Uhr \n\n\nIm Jahre 2014 drehte die Band drei Live-Videos auf einer Farm in Finnland. Das zweite\, eine neue und freshe Version des AC/DC-Klassikers „Thunderstruck“\, eroberte das Internet im Sturm. Seit 2014 haben Steve’n’Seagulls vier Alben herausgebracht. Ihr Debüt „Farm Machine“ hatte 170 Shows in Europa und den USA zur Folge. Sie eroberten die Herzen der Fans sowohl in den kleinen Clubs als auch auf den großen Festivals. Bis heute haben die Videos der Band 280 Million Klicks bei YouTube. Sie waren zu Gast bei den größten Festivals des Planeten – inklusive Wacken Open Air\, Rescontres Trans Musicales\, Nova Rock\, Sweden Rock etc.! In über 30 Ländern und 4 Kontinenten haben Steve´n´Seagulls ihre Fans begeistert. Und die Reise geht weiter\, und zwar mit einem neuen Album!!! „This tour is something we are really waiting for. We have some new music that’ll be released this year – so we are anxious to play live for our fans in Europe in the autumn of 2024!“ \nTickets gibt es an allen bekannten Vorverkaufsstellen sowie online bei Eventim  und Ticket-Regional.
URL:https://mjctrier.de/event/steven-seagulls/
LOCATION:Mergener Hof\, Rindertanzstr. 4\, Trier\, 54290\, Deutschland
CATEGORIES:Konzert
ATTACH;FMTTYPE=image/jpeg:https://mjctrier.de/wp-content/uploads/Steve-N-Seagulls.jpg
ORGANIZER;CN="Mergener Hof":MAILTO:info@mjctrier.de
END:VEVENT
END:VCALENDAR