BEGIN:VCALENDAR
VERSION:2.0
PRODID:-//MJC Mergener Hof - ECPv6.15.20//NONSGML v1.0//EN
CALSCALE:GREGORIAN
METHOD:PUBLISH
X-WR-CALNAME:MJC Mergener Hof
X-ORIGINAL-URL:https://mjctrier.de
X-WR-CALDESC:Veranstaltungen für MJC Mergener Hof
REFRESH-INTERVAL;VALUE=DURATION:PT1H
X-Robots-Tag:noindex
X-PUBLISHED-TTL:PT1H
BEGIN:VTIMEZONE
TZID:Europe/Berlin
BEGIN:DAYLIGHT
TZOFFSETFROM:+0100
TZOFFSETTO:+0200
TZNAME:CEST
DTSTART:20240331T010000
END:DAYLIGHT
BEGIN:STANDARD
TZOFFSETFROM:+0200
TZOFFSETTO:+0100
TZNAME:CET
DTSTART:20241027T010000
END:STANDARD
BEGIN:DAYLIGHT
TZOFFSETFROM:+0100
TZOFFSETTO:+0200
TZNAME:CEST
DTSTART:20250330T010000
END:DAYLIGHT
BEGIN:STANDARD
TZOFFSETFROM:+0200
TZOFFSETTO:+0100
TZNAME:CET
DTSTART:20251026T010000
END:STANDARD
BEGIN:DAYLIGHT
TZOFFSETFROM:+0100
TZOFFSETTO:+0200
TZNAME:CEST
DTSTART:20260329T010000
END:DAYLIGHT
BEGIN:STANDARD
TZOFFSETFROM:+0200
TZOFFSETTO:+0100
TZNAME:CET
DTSTART:20261025T010000
END:STANDARD
END:VTIMEZONE
BEGIN:VEVENT
DTSTART;TZID=Europe/Berlin:20251025T080000
DTEND;TZID=Europe/Berlin:20251025T170000
DTSTAMP:20260425T151255
CREATED:20250219T123209Z
LAST-MODIFIED:20250617T115926Z
UID:8105-1761379200-1761411600@mjctrier.de
SUMMARY:TORMENT OF SOULS
DESCRIPTION:30 JAHRE „TORMENT OF SOULS“ \nGegründet im Jahr 1994 sind TORMENT OF SOULS mittlerweile eine Institution in Sachen Old School Death Metal! Das Jubiläum wird mit folgenen Gästen gefeiert:\nROTTING DEMISE\nSOUL GRINDER\nDER ROTE MILAN \nEinlass: 18:00 Uhr\, Beginn: 19:00 Uhr \nTickets:\nTicket-Regional
URL:https://mjctrier.de/event/torment-of-souls/
LOCATION:Mergener Hof\, Rindertanzstr. 4\, Trier\, 54290\, Deutschland
CATEGORIES:Konzert
ATTACH;FMTTYPE=image/png:https://mjctrier.de/wp-content/uploads/Torment-Of-Souls.png
END:VEVENT
END:VCALENDAR