BEGIN:VCALENDAR
VERSION:2.0
PRODID:-//MJC Mergener Hof - ECPv6.15.20//NONSGML v1.0//EN
CALSCALE:GREGORIAN
METHOD:PUBLISH
X-ORIGINAL-URL:https://mjctrier.de
X-WR-CALDESC:Veranstaltungen für MJC Mergener Hof
REFRESH-INTERVAL;VALUE=DURATION:PT1H
X-Robots-Tag:noindex
X-PUBLISHED-TTL:PT1H
BEGIN:VTIMEZONE
TZID:Europe/Berlin
BEGIN:DAYLIGHT
TZOFFSETFROM:+0100
TZOFFSETTO:+0200
TZNAME:CEST
DTSTART:20240331T010000
END:DAYLIGHT
BEGIN:STANDARD
TZOFFSETFROM:+0200
TZOFFSETTO:+0100
TZNAME:CET
DTSTART:20241027T010000
END:STANDARD
BEGIN:DAYLIGHT
TZOFFSETFROM:+0100
TZOFFSETTO:+0200
TZNAME:CEST
DTSTART:20250330T010000
END:DAYLIGHT
BEGIN:STANDARD
TZOFFSETFROM:+0200
TZOFFSETTO:+0100
TZNAME:CET
DTSTART:20251026T010000
END:STANDARD
BEGIN:DAYLIGHT
TZOFFSETFROM:+0100
TZOFFSETTO:+0200
TZNAME:CEST
DTSTART:20260329T010000
END:DAYLIGHT
BEGIN:STANDARD
TZOFFSETFROM:+0200
TZOFFSETTO:+0100
TZNAME:CET
DTSTART:20261025T010000
END:STANDARD
END:VTIMEZONE
BEGIN:VEVENT
DTSTART;TZID=Europe/Berlin:20250520T190000
DTEND;TZID=Europe/Berlin:20250520T210000
DTSTAMP:20260424T104333
CREATED:20250507T084950Z
LAST-MODIFIED:20250507T113124Z
UID:8268-1747767600-1747774800@mjctrier.de
SUMMARY:AND I LIKED IT - CASPAR
DESCRIPTION:„And I liked it – Caspar“ Lesung aus dem Roman mit der Autorin Lisa F. Olsen.\nAus der Veranstaltungsreihe zum Thema „Depression“ Region Trier – 2025 \nMergener Hof – Trier\, Beginn: 19:00 Uhr \nLisa F. Olsen ist eine junge Autorin und schreibt vor allem Texte im New Adult Genre. Besonders wichtig ist es ihr in ihren Büchern\, die tiefgreifenden Gefühle der Protagonisten und ihre persönliche Entwicklung so realistisch wie möglich darzustellen. Dies betrifft auch die psychischen Krisen\, die die Protagonisten in ihrer Literatur durchleben. \nIn der Veranstaltung wird Lisa F. Olsen Passagen aus „And I liked it“ lesen und mit der Moderatorin Kerstin Jacob über ihre Beweggründe\, Lebenswege junger Menschen in psychischen Krisen literarisch zu bearbeiten\, sprechen. Im Anschluss wird Flora Keller die Themen Psychotrauma\, Suchterkrankungen\, bipolare Erkrankungen und depressive Erkrankungen fachlich einordnen. \nDie Veranstaltung richtet sich insbesondere an ältere Jugendliche und junge Erwachsenen. • Dienstag\, 20.5.2025 ∙ 19:00–21:00 Uhr\n∙Autorin: Lisa F. Olsen; Moderatorin und Fachexpertin: Dr. Kerstin Jacob und Flora Keller – beides Diplom Psychologinnen \nEine Veranstaltung des Kompetenznetz Depression Eifel-Mosel in Kooperation mit der MJC-Jugendberatung.
URL:https://mjctrier.de/event/and-i-liked-it-caspar/
LOCATION:Mergener Hof\, Rindertanzstr. 4\, Trier\, 54290\, Deutschland
CATEGORIES:Lesung,Vortrag
ATTACH;FMTTYPE=image/jpeg:https://mjctrier.de/wp-content/uploads/Lesung_Depression.jpg
ORGANIZER;CN="Mergener Hof":MAILTO:info@mjctrier.de
END:VEVENT
END:VCALENDAR