BEGIN:VCALENDAR
VERSION:2.0
PRODID:-//MJC Mergener Hof - ECPv6.15.20//NONSGML v1.0//EN
CALSCALE:GREGORIAN
METHOD:PUBLISH
X-ORIGINAL-URL:https://mjctrier.de
X-WR-CALDESC:Veranstaltungen für MJC Mergener Hof
REFRESH-INTERVAL;VALUE=DURATION:PT1H
X-Robots-Tag:noindex
X-PUBLISHED-TTL:PT1H
BEGIN:VTIMEZONE
TZID:Europe/Berlin
BEGIN:DAYLIGHT
TZOFFSETFROM:+0100
TZOFFSETTO:+0200
TZNAME:CEST
DTSTART:20230326T010000
END:DAYLIGHT
BEGIN:STANDARD
TZOFFSETFROM:+0200
TZOFFSETTO:+0100
TZNAME:CET
DTSTART:20231029T010000
END:STANDARD
BEGIN:DAYLIGHT
TZOFFSETFROM:+0100
TZOFFSETTO:+0200
TZNAME:CEST
DTSTART:20240331T010000
END:DAYLIGHT
BEGIN:STANDARD
TZOFFSETFROM:+0200
TZOFFSETTO:+0100
TZNAME:CET
DTSTART:20241027T010000
END:STANDARD
BEGIN:DAYLIGHT
TZOFFSETFROM:+0100
TZOFFSETTO:+0200
TZNAME:CEST
DTSTART:20250330T010000
END:DAYLIGHT
BEGIN:STANDARD
TZOFFSETFROM:+0200
TZOFFSETTO:+0100
TZNAME:CET
DTSTART:20251026T010000
END:STANDARD
END:VTIMEZONE
BEGIN:VEVENT
DTSTART;TZID=Europe/Berlin:20240818T193000
DTEND;TZID=Europe/Berlin:20240818T230000
DTSTAMP:20260424T104258
CREATED:20240709T105104Z
LAST-MODIFIED:20240709T105306Z
UID:7724-1724009400-1724022000@mjctrier.de
SUMMARY:THROWN
DESCRIPTION:THROWN\nMit Texten voller Wut und Selbsthass verbindet das 4-köpfige Hardcore/Metalcore-Quartett aus Schweden auf effektive Weise intensive und krachende Gitarren mit eingängigen\, aber aggressiven Gesangsrhythmen. Ohne Vorwarnung wollen Thrown mit ihrer modernen Interpretation von Heavy Music auf sich aufmerksam machen.\nGreyout“ ist der erste Schritt\, um einen neuen Eindruck in der Szene zu hinterlassen. Sänger Marcus Lundqvist wird von Johan Liljeblad und Andreas Malm an den Gitarren und Schlagzeuger Buster Odeholm (Vildhjarta/Humanity’s Last Breath) unterstützt\, während Thrown ihre Botschaft des Selbsthasses durch ihre Mischung aus knallhartem Metalcore und wutentbranntem Hardcore verbreiten wollen. \nDOGBITE\n„Bellende Hunde beißen nicht“ trifft wohl kaum auf die abgefuckten Straßenköter aus dem tiefsten Osten Deutschlands zu. Mach euch auf einen unerbittlichen Ansturm von langsamen\, schweren Riffs und knochenbrechenden Breakdowns gefasst. \nEinlass: 19:00 Uhr\, Beginn: 19:30 Uhr \nLinks:\nThrown \nTickets:\nTicket-Regional und Eventim
URL:https://mjctrier.de/event/thrown/
LOCATION:Mergener Hof\, Rindertanzstr. 4\, Trier\, 54290\, Deutschland
CATEGORIES:Konzert
ATTACH;FMTTYPE=image/png:https://mjctrier.de/wp-content/uploads/Thrown_Band.png
ORGANIZER;CN="Mergener Hof":MAILTO:info@mjctrier.de
END:VEVENT
END:VCALENDAR