BEGIN:VCALENDAR
VERSION:2.0
PRODID:-//MJC Mergener Hof - ECPv6.15.20//NONSGML v1.0//EN
CALSCALE:GREGORIAN
METHOD:PUBLISH
X-ORIGINAL-URL:https://mjctrier.de
X-WR-CALDESC:Veranstaltungen für MJC Mergener Hof
REFRESH-INTERVAL;VALUE=DURATION:PT1H
X-Robots-Tag:noindex
X-PUBLISHED-TTL:PT1H
BEGIN:VTIMEZONE
TZID:Europe/Berlin
BEGIN:DAYLIGHT
TZOFFSETFROM:+0100
TZOFFSETTO:+0200
TZNAME:CEST
DTSTART:20230326T010000
END:DAYLIGHT
BEGIN:STANDARD
TZOFFSETFROM:+0200
TZOFFSETTO:+0100
TZNAME:CET
DTSTART:20231029T010000
END:STANDARD
BEGIN:DAYLIGHT
TZOFFSETFROM:+0100
TZOFFSETTO:+0200
TZNAME:CEST
DTSTART:20240331T010000
END:DAYLIGHT
BEGIN:STANDARD
TZOFFSETFROM:+0200
TZOFFSETTO:+0100
TZNAME:CET
DTSTART:20241027T010000
END:STANDARD
BEGIN:DAYLIGHT
TZOFFSETFROM:+0100
TZOFFSETTO:+0200
TZNAME:CEST
DTSTART:20250330T010000
END:DAYLIGHT
BEGIN:STANDARD
TZOFFSETFROM:+0200
TZOFFSETTO:+0100
TZNAME:CET
DTSTART:20251026T010000
END:STANDARD
END:VTIMEZONE
BEGIN:VEVENT
DTSTART;TZID=Europe/Berlin:20240615T173000
DTEND;TZID=Europe/Berlin:20240615T190000
DTSTAMP:20260419T192555
CREATED:20240606T120844Z
LAST-MODIFIED:20240609T121331Z
UID:7678-1718472600-1718478000@mjctrier.de
SUMMARY:POETRY SLAM - U20 STADTMEISTERSCHAFTEN
DESCRIPTION:DIE TRIERER U20 STADTMEISTERSCHAFTEN\n\n\nDIE U20 STADTMEISTERSCHAFT IM POETRY SLAM \n\n\n\nDer Sieger ist bei deutschsprachigen U20 Meisterschaften in Berlin startberechtigt \nU20 Slam ist U20 Poetry Slam ist Poetry Slam für unter 20jährige.Hier wetttexten die besten NachwuchspoetInnen\, die Stars von morgen\, um den Junior- Karl-Marx-Poesie-Preis UND um die Teilnahme an den Deutschsprachigen U20 Poetry Slam Meisterschaften 2024 in Berlin! \nWer wird Trierer U20 StadtmeisterIn? Wer löst die amtierende Stadtmeisterin Emily Schilz ab? \nLine up wird noch bekannt gegeben. \nEinlass: 17.30 Uhr\, Beginn: 18:00 Uhr
URL:https://mjctrier.de/event/poetry-slam-die-trierer-u20-stadtmeisterschaften/
LOCATION:Mergener Hof\, Rindertanzstr. 4\, Trier\, 54290\, Deutschland
ATTACH;FMTTYPE=image/jpeg:https://mjctrier.de/wp-content/uploads/PoetrySlam.jpg
ORGANIZER;CN="Kulturraum Trier":MAILTO:kultur@kulturraumtrier.de
END:VEVENT
BEGIN:VEVENT
DTSTART;TZID=Europe/Berlin:20240615T200000
DTEND;TZID=Europe/Berlin:20240615T223000
DTSTAMP:20260419T192555
CREATED:20240606T121105Z
LAST-MODIFIED:20240609T121216Z
UID:7680-1718481600-1718490600@mjctrier.de
SUMMARY:POETRY SLAM - JAHRESFINALE
DESCRIPTION:DAS GROSSE JAHRESFINALE DES TRIERER POETRY SLAM\n\nDIE Ü20 STADTMEISTERSCHAFT IM POETRY SLAM\n\n\nDie Siegerinnen und Sieger der vergangenen Saison kämpfen um den Karl-Marx-Poesie Preis. \nDas sind die Besten der Bestem\, das ist die Kirsche auf dem Kuchen\, denn teilnehmen werden die SiegerInnen der vergangenen Spoken Word Saison 2023/2024. \nWer wird Trierer StadtmeisterIn und damit NachfolgerIn der wunderbaren Lea Sophie Keller? \nDas Line up:\nDie Siegerinnen und Sieger der vergangenen Poetry Slams (Namen folgen)\nEs geht um Ruhm und Ehre\, um den Titel Trierer Stadtmeister/in 2024 und nicht zuletzt um den Karl Marx Poesie Preis 2024. \nEinlass: 19.30 Uhr\, Beginn: 20:00 Uhr
URL:https://mjctrier.de/event/poetry-slam-das-grosse-jahresfinale/
LOCATION:Mergener Hof\, Rindertanzstr. 4\, Trier\, 54290\, Deutschland
ATTACH;FMTTYPE=image/jpeg:https://mjctrier.de/wp-content/uploads/PoetrySlam.jpg
ORGANIZER;CN="Kulturraum Trier":MAILTO:kultur@kulturraumtrier.de
END:VEVENT
END:VCALENDAR