BEGIN:VCALENDAR
VERSION:2.0
PRODID:-//MJC Mergener Hof - ECPv6.15.20//NONSGML v1.0//EN
CALSCALE:GREGORIAN
METHOD:PUBLISH
X-WR-CALNAME:MJC Mergener Hof
X-ORIGINAL-URL:https://mjctrier.de
X-WR-CALDESC:Veranstaltungen für MJC Mergener Hof
REFRESH-INTERVAL;VALUE=DURATION:PT1H
X-Robots-Tag:noindex
X-PUBLISHED-TTL:PT1H
BEGIN:VTIMEZONE
TZID:Europe/Berlin
BEGIN:DAYLIGHT
TZOFFSETFROM:+0100
TZOFFSETTO:+0200
TZNAME:CEST
DTSTART:20230326T010000
END:DAYLIGHT
BEGIN:STANDARD
TZOFFSETFROM:+0200
TZOFFSETTO:+0100
TZNAME:CET
DTSTART:20231029T010000
END:STANDARD
BEGIN:DAYLIGHT
TZOFFSETFROM:+0100
TZOFFSETTO:+0200
TZNAME:CEST
DTSTART:20240331T010000
END:DAYLIGHT
BEGIN:STANDARD
TZOFFSETFROM:+0200
TZOFFSETTO:+0100
TZNAME:CET
DTSTART:20241027T010000
END:STANDARD
BEGIN:DAYLIGHT
TZOFFSETFROM:+0100
TZOFFSETTO:+0200
TZNAME:CEST
DTSTART:20250330T010000
END:DAYLIGHT
BEGIN:STANDARD
TZOFFSETFROM:+0200
TZOFFSETTO:+0100
TZNAME:CET
DTSTART:20251026T010000
END:STANDARD
END:VTIMEZONE
BEGIN:VEVENT
DTSTART;TZID=Europe/Berlin:20240430T230000
DTEND;TZID=Europe/Berlin:20240501T070000
DTSTAMP:20260419T154304
CREATED:20240415T122131Z
LAST-MODIFIED:20240416T092744Z
UID:7506-1714518000-1714546800@mjctrier.de
SUMMARY:HALLO TRIER
DESCRIPTION:HALLO TRIER mit PAPPENHEIMER\, AKA AKA\, KERSTIN EDEN\, JØREN OZ uvm.\n\nAm Dienstag\, den 30.04.24 ab 23:00 Uhr im Mergener Hof und im Forum Club Trier.2 Clubs – 3 Floors – 12 DJs – 1 Preis (House – Techno – Hardgroove – Hardtechno) \nWeitere Infos und den Timetable findet ihr im Veranstaltungslink.
URL:https://mjctrier.de/event/hallo-trier/
LOCATION:Mergener Hof\, Rindertanzstr. 4\, Trier\, 54290\, Deutschland
CATEGORIES:Party
ATTACH;FMTTYPE=image/jpeg:https://mjctrier.de/wp-content/uploads/HalloTrier_April2024.jpg
END:VEVENT
BEGIN:VEVENT
DTSTART;TZID=Europe/Berlin:20240508T230000
DTEND;TZID=Europe/Berlin:20240509T060000
DTSTAMP:20260419T154304
CREATED:20240505T103240Z
LAST-MODIFIED:20240506T070942Z
UID:7614-1715209200-1715234400@mjctrier.de
SUMMARY:HARTES RAUCHEN mit CLOUDY
DESCRIPTION:08.05.2024 – Mergener Hof\, Trier\n2 Floors\, ab 23:00 Uhr \nLINE UP:\n\nGewölbe:\nCLOUDY\nMARY P\nISRAA\n\nRäucherkammer:\nHILLMANN & NEUFANG \nTickets:\nhttps://timelessevents.ticket.io/4qdlrhb7/?\nWir halten für Kurzentschlossene ausreichend Tickets für die Abendkasse zurück. \nVeranstaltungsregeln:\nNo racism\, no homphobia\, no sexism!\nUnd last but not least:\nkeine Photos/Videos im Club!
URL:https://mjctrier.de/event/hartes-rauchen-mit-cloudy/
LOCATION:Mergener Hof\, Rindertanzstr. 4\, Trier\, 54290\, Deutschland
CATEGORIES:Party
ATTACH;FMTTYPE=image/jpeg:https://mjctrier.de/wp-content/uploads/438162895_978680150717817_3564309590623645423_n.jpg
END:VEVENT
BEGIN:VEVENT
DTSTART;TZID=Europe/Berlin:20240529T230000
DTEND;TZID=Europe/Berlin:20240530T063000
DTSTAMP:20260419T154304
CREATED:20240515T110109Z
LAST-MODIFIED:20240515T110233Z
UID:7624-1717023600-1717050600@mjctrier.de
SUMMARY:HALLO EVENTS presents JOYHAUSER
DESCRIPTION:HALLO! Events presents JOYHAUSER (3h-Set)Start:  23:00 Uhr – Techno & House auf 2 Floors\n\n\n LINE UP:\nGewölbe (Techno Floor):\n23.00 – 01.30 Uhr Enna\n01.30 – 04.30 Uhr Joyhauser\n04.30. – 07.00 Uhr Bruno \n\n\nRäucherkammer (strictly house music):\n00.00 – 03.00 Claudius Kantner\n03.00 – 06.00 Hillmann & Neufang (Olli only) \nTickets: timelessevents.ticket.io
URL:https://mjctrier.de/event/hallo-events-presents-joyhauser/
LOCATION:Mergener Hof\, Rindertanzstr. 4\, Trier\, 54290\, Deutschland
CATEGORIES:Party
ATTACH;FMTTYPE=image/png:https://mjctrier.de/wp-content/uploads/Joyhauser.png
END:VEVENT
END:VCALENDAR