BEGIN:VCALENDAR
VERSION:2.0
PRODID:-//MJC Mergener Hof - ECPv6.15.20//NONSGML v1.0//EN
CALSCALE:GREGORIAN
METHOD:PUBLISH
X-ORIGINAL-URL:https://mjctrier.de
X-WR-CALDESC:Veranstaltungen für MJC Mergener Hof
REFRESH-INTERVAL;VALUE=DURATION:PT1H
X-Robots-Tag:noindex
X-PUBLISHED-TTL:PT1H
BEGIN:VTIMEZONE
TZID:Europe/Berlin
BEGIN:DAYLIGHT
TZOFFSETFROM:+0100
TZOFFSETTO:+0200
TZNAME:CEST
DTSTART:20240331T010000
END:DAYLIGHT
BEGIN:STANDARD
TZOFFSETFROM:+0200
TZOFFSETTO:+0100
TZNAME:CET
DTSTART:20241027T010000
END:STANDARD
BEGIN:DAYLIGHT
TZOFFSETFROM:+0100
TZOFFSETTO:+0200
TZNAME:CEST
DTSTART:20250330T010000
END:DAYLIGHT
BEGIN:STANDARD
TZOFFSETFROM:+0200
TZOFFSETTO:+0100
TZNAME:CET
DTSTART:20251026T010000
END:STANDARD
BEGIN:DAYLIGHT
TZOFFSETFROM:+0100
TZOFFSETTO:+0200
TZNAME:CEST
DTSTART:20260329T010000
END:DAYLIGHT
BEGIN:STANDARD
TZOFFSETFROM:+0200
TZOFFSETTO:+0100
TZNAME:CET
DTSTART:20261025T010000
END:STANDARD
END:VTIMEZONE
BEGIN:VEVENT
DTSTART;TZID=Europe/Berlin:20250420T230000
DTEND;TZID=Europe/Berlin:20250421T060000
DTSTAMP:20260420T160610
CREATED:20250408T120702Z
LAST-MODIFIED:20250408T120853Z
UID:8200-1745190000-1745215200@mjctrier.de
SUMMARY:SPIN
DESCRIPTION:Pure Techno Vibez – unverfälscht\, rough\, warm… Vinyl Only \nStart: 23:00 Uhr – 2 Floors \n\nLine-Up:\nSUNIL SHARPE* https://instagram.com/sunilsharpe* https://soundcloud.com/…/reclaim-your-city-632-sunil…\nKM/H b2b DEMP* https://instagram.com/katrinxmue* https://soundcloud.com/kmh_dj/km-h-session-one* https://instagram.com/kilian.demp* https://soundcloud.com/gra…/gtg-mixtape-2k24-mixed-by-demp\nNADINE COALYARD* https://instagram.com/nadicoa* https://soundcloud.com/…/only-vinyl-mix-hardtechno…\nPABLO STUMM* https://instagram.com/pablo_stumm* https://soundcloud.com/q3d69SkLzVwFFc5U8\nKALLISTO* https://instagram.com/kallisto.the.schaffbuxx* https://soundcloud.com/klubklub…/kallisto-klub-podcast-007\nMIRIGAL* https://instagram.com/miriamsemer* https://instagram.com/pablo_stumm\nBRUNO* https://instagram.com/brunobrunoandbruno* https://soundcloud.com/brunobrunoandbruno/rec20191206
URL:https://mjctrier.de/event/spin/
LOCATION:Mergener Hof\, Rindertanzstr. 4\, Trier\, 54290\, Deutschland
CATEGORIES:Party
ATTACH;FMTTYPE=image/jpeg:https://mjctrier.de/wp-content/uploads/spin_Mergener-Hof.jpg
ORGANIZER;CN="BRUNO":MAILTO:info@bruno.dj
END:VEVENT
BEGIN:VEVENT
DTSTART;TZID=Europe/Berlin:20250430T230000
DTEND;TZID=Europe/Berlin:20250501T060000
DTSTAMP:20260420T160610
CREATED:20250422T110954Z
LAST-MODIFIED:20250422T110954Z
UID:8244-1746054000-1746079200@mjctrier.de
SUMMARY:HERTZ
DESCRIPTION:Green Mile Lux präsentiert: \nHERTZ\nTechno-Party auf 2 Floors. \nStart: 23:00 Uhr \nAuf dem Mainfloor erwartet euch eine kompromisslose Auswahl an rohem\, treibendem Techno – verwurzelt im Druck der 90er\, angeheizt durch Vinyl und direkt aus dem lokalen Underground. Alles lokal. Alles Vinyl. Die ganze Nacht. \n\nAuf dem Second Floor dreht sich alles um Deep Cuts und warme Grooves. Soulful House für die Köpfe – sanft\, reichhaltig und mit Sorgfalt gemacht. Ein Raum\, um sich zu verbinden\, zu bewegen und sich im Rhythmus zu verlieren. \n\nLine-Up:Chrissy O.Kai HillmannPablo StummPercussion NinjasSKK\nVorverkauf: 12\,00 €\, Abendkasse: 15\,00 € \n\nTickets: \nhttps://greenevents.ticket.io/9tyuf2ha/
URL:https://mjctrier.de/event/hertz/
LOCATION:Mergener Hof\, Rindertanzstr. 4\, Trier\, 54290\, Deutschland
CATEGORIES:Party
ATTACH;FMTTYPE=image/jpeg:https://mjctrier.de/wp-content/uploads/HERTZ.jpg
ORGANIZER;CN="Green Mile Lux":MAILTO:shop@your-greenmile.de
END:VEVENT
END:VCALENDAR