BEGIN:VCALENDAR
VERSION:2.0
PRODID:-//MJC Mergener Hof - ECPv6.15.20//NONSGML v1.0//EN
CALSCALE:GREGORIAN
METHOD:PUBLISH
X-ORIGINAL-URL:https://mjctrier.de
X-WR-CALDESC:Veranstaltungen für MJC Mergener Hof
REFRESH-INTERVAL;VALUE=DURATION:PT1H
X-Robots-Tag:noindex
X-PUBLISHED-TTL:PT1H
BEGIN:VTIMEZONE
TZID:Europe/Berlin
BEGIN:DAYLIGHT
TZOFFSETFROM:+0100
TZOFFSETTO:+0200
TZNAME:CEST
DTSTART:20230326T010000
END:DAYLIGHT
BEGIN:STANDARD
TZOFFSETFROM:+0200
TZOFFSETTO:+0100
TZNAME:CET
DTSTART:20231029T010000
END:STANDARD
BEGIN:DAYLIGHT
TZOFFSETFROM:+0100
TZOFFSETTO:+0200
TZNAME:CEST
DTSTART:20240331T010000
END:DAYLIGHT
BEGIN:STANDARD
TZOFFSETFROM:+0200
TZOFFSETTO:+0100
TZNAME:CET
DTSTART:20241027T010000
END:STANDARD
BEGIN:DAYLIGHT
TZOFFSETFROM:+0100
TZOFFSETTO:+0200
TZNAME:CEST
DTSTART:20250330T010000
END:DAYLIGHT
BEGIN:STANDARD
TZOFFSETFROM:+0200
TZOFFSETTO:+0100
TZNAME:CET
DTSTART:20251026T010000
END:STANDARD
END:VTIMEZONE
BEGIN:VEVENT
DTSTART;TZID=Europe/Berlin:20240907T200000
DTEND;TZID=Europe/Berlin:20240907T230000
DTSTAMP:20260420T012013
CREATED:20240627T090244Z
LAST-MODIFIED:20240627T090405Z
UID:7704-1725739200-1725750000@mjctrier.de
SUMMARY:TRAITRS + TWIN NOIR
DESCRIPTION:ROCKLAND RADIO\, WOD\, TIME FOR METAL\, FESTIVALSTALKER & MERGENER HOF proudly presents: \nTRAITRS \n+ TWIN NOIR \nMergener Hof Trier\nEinlass: 19:00 Uhr\, Beginn: 20:00 Uhr \nInfos:\nTraitrs sind eine in Toronto ansässige Band\, bestehend aus Sean-Patrick Nolan und Shawn Tucker. Das Paar ist seit langem befreundet und wurde Mitte 2015 als Traitrs gegründet. Zunächst konzipierten sie die Band hauptsächlich als Aufnahmeprojekt und trugen schnell eine Sammlung von Demos zusammen\, die die Aufmerksamkeit des Toronto-Produzenten Josh Korody (Dilly Dally\, Beliefs\, Moon King\, Fucked Up) erregten\, und begannen\, während der Sessions im Januar 2016 in seinem Candle Studios mit ihm zusammenzuarbeiten. Unter Korodys Anleitung machte sich die Band daran\, ihren Sound zu erweitern\, ihren Arrangements strukturelle Tiefe und ihrer Rhythmussektion mehr Gewicht zu verleihen und ihre reduzierten Heimaufnahmen sofort in eine Sammlung treibenden\, von Gothic beeinflussten Post-Punks zu verwandeln. Erinnert an Acts wie Sisters of Mercy\, Bauhaus und Cure aus der Pornografie-Ära. \nTwin Noir ist ein in Berlin ansässiges Post-Punk/Wave/EBM-Künstlerduo\, bestehend aus Cody Barcelona (Stimme\, Elektronik\, Gitarre) und Ian Volt (Stimme\, Bass)\, präsentiert sein 11 Songs umfassendes Debütalbum „2 Punks and a Tape Machine“. Die Musik von Twin Noir pendelt zwischen technoid klingenden Tönen und offenen weiten Sphären mit melodischen Momenten\, gepaart mit satirisch-dadaistischen Texten in deutscher Sprache.\nDer Sound von Twin Noir wird maßgeblich von einer analogen Bandmaschine\, einem Sampler\, Gitarren und einem Theremin geprägt. Mit diesen Mitteln wird der eigene Punk-Stil kreativ präsentiert: technoide Beats\, treibende Basslines und eine Gitarre\, die von clean und sphärisch bis verzerrt und bissig reicht. Die Einflüsse der Band reichen von den deutschen Elektronik-Pionieren KRAFTWERK oder DAF über die EBM- und Techno-Szene bis hin zum Punk und Rock der 70er bis 90er Jahre. \nLinks:\nhttps://traitrs.bandcamp.com/\nhttps://www.twinnoir.com/ \nTickets:\nTicket-Regional und Eventim
URL:https://mjctrier.de/event/traitrs/
LOCATION:Mergener Hof\, Rindertanzstr. 4\, Trier\, 54290\, Deutschland
CATEGORIES:Konzert
ATTACH;FMTTYPE=image/jpeg:https://mjctrier.de/wp-content/uploads/traitrs_band_promo.jpg
ORGANIZER;CN="Mergener Hof":MAILTO:info@mjctrier.de
END:VEVENT
END:VCALENDAR