BEGIN:VCALENDAR
VERSION:2.0
PRODID:-//MJC Mergener Hof - ECPv6.15.20//NONSGML v1.0//EN
CALSCALE:GREGORIAN
METHOD:PUBLISH
X-WR-CALNAME:MJC Mergener Hof
X-ORIGINAL-URL:https://mjctrier.de
X-WR-CALDESC:Veranstaltungen für MJC Mergener Hof
REFRESH-INTERVAL;VALUE=DURATION:PT1H
X-Robots-Tag:noindex
X-PUBLISHED-TTL:PT1H
BEGIN:VTIMEZONE
TZID:Europe/Berlin
BEGIN:DAYLIGHT
TZOFFSETFROM:+0100
TZOFFSETTO:+0200
TZNAME:CEST
DTSTART:20230326T010000
END:DAYLIGHT
BEGIN:STANDARD
TZOFFSETFROM:+0200
TZOFFSETTO:+0100
TZNAME:CET
DTSTART:20231029T010000
END:STANDARD
BEGIN:DAYLIGHT
TZOFFSETFROM:+0100
TZOFFSETTO:+0200
TZNAME:CEST
DTSTART:20240331T010000
END:DAYLIGHT
BEGIN:STANDARD
TZOFFSETFROM:+0200
TZOFFSETTO:+0100
TZNAME:CET
DTSTART:20241027T010000
END:STANDARD
BEGIN:DAYLIGHT
TZOFFSETFROM:+0100
TZOFFSETTO:+0200
TZNAME:CEST
DTSTART:20250330T010000
END:DAYLIGHT
BEGIN:STANDARD
TZOFFSETFROM:+0200
TZOFFSETTO:+0100
TZNAME:CET
DTSTART:20251026T010000
END:STANDARD
END:VTIMEZONE
BEGIN:VEVENT
DTSTART;TZID=Europe/Berlin:20241221T200000
DTEND;TZID=Europe/Berlin:20241221T230000
DTSTAMP:20260419T201455
CREATED:20240911T085016Z
LAST-MODIFIED:20241211T081250Z
UID:7860-1734811200-1734822000@mjctrier.de
SUMMARY:LOVE A
DESCRIPTION:LOVE A – Weihnachtskonzert 2024\n+ LYSCHKO (Post Punk\, Solingen)\n+ LATEX (Wave\, Post Punk\, Darmstadt) \nEinlass: 19:30 Uhr\, Beginn: 20:00 Uhr \nDas Konzert ist ausverkauft und es wird keine Abendkasse mehr geben! \nTraditionell spielt die Band LOVE A ein Konzert kurz vor Weihnachten und zwar nicht irgendwo\, sondern da wo die Band sich 2010 gegründet hat: In Trier – diesmal wieder im Mergener Hof. Gut? Nee\, super! \nTexte\, in denen sich kein Selbstoptimierer wohlfühlt – und Musik wie schräge Architektur\, an der du nicht vorbeigucken kannst. Schweiß\, Tränen und empor gereckte Fäuste. Das willst du doch? Datt is Punk\, verstehste? Aber so richtig: Mit allen Emotionen\, die du auch von zuhause kennst. Aber es geht um weit mehr\, als dieses „Das-Bier-ist-alle-Gefühl“. Denn alles ist alle – und es kommt nie wieder. Es geht um Gefühle. Um alle. Von ganz oben\, nach ganz unten innerhalb von 7 Schnäpsen. Mäandernde Melancholie und präziser Pop. Du willst dich bewegen und gleichzeitig aggressiv auf der Stelle treten\, bis vielleicht ein Loch entsteht\, in das du dann verschwinden kannst\, weil all das auch dich betrifft: Jedes Wort\, jeder Ton. Kopf aus\, Musik an. Das ist Love A. \nSupports:\nLYSCHKO sind drei Menschen aus einer mittleren Großstadt in NRW\, deren Frust sich in geballter musikalischer Wucht entlädt. Sie vertonen seit 2018 Verdruss\, Attitude und Aufschrei in einer bittersüßen Melange aus Post Punk\, New Wave und fein selektierten Essentialen von düsterem Pop. Im Oktober erscheint ihr zweites Album „Niedergang 2“ und wir freuen uns\, dass sie an diesem Abend mit dabei sind. \nLATEX ist eine 2022 gegründete Post-Punk Band aus Darmstadt. Das Duo orientiert sich an stilprägenden Bands der 80er Jahre des britischen Labels 4AD\, wie Cocteau Twins oder auch X-Mal Deutschland. Anfang 2024 veröffentlichte die Band über das Indie-Label ICHI ICHI ihr erstes 2-Track Tape. Seitdem konnte die Band bereits mit namhaften Bands wie Ghostwoman oder Poison Ruin die Bühne teilen und durch ihren melancholischen\, tanzbaren Sound mit Gitarre\, Bass und Drum-Maschine sowie Synth-Samples überzeugen. Eine neue EP ist für Anfang 2025 angedacht und auch hier freuen wir uns auf das Konzert-Debüt in Trier. \nTickets gibt es an allen regionalen VVK-Stellen sowie hier:\nTicket-Regional\nEventim
URL:https://mjctrier.de/event/love-a/
LOCATION:Mergener Hof\, Rindertanzstr. 4\, Trier\, 54290\, Deutschland
CATEGORIES:Konzert
ATTACH;FMTTYPE=image/jpeg:https://mjctrier.de/wp-content/uploads/03-LOVEA_2022-by-Oliver-Jungmann_small-scaled.jpg
ORGANIZER;CN="Mergener Hof":MAILTO:info@mjctrier.de
END:VEVENT
END:VCALENDAR