BEGIN:VCALENDAR
VERSION:2.0
PRODID:-//MJC Mergener Hof - ECPv6.15.20//NONSGML v1.0//EN
CALSCALE:GREGORIAN
METHOD:PUBLISH
X-WR-CALNAME:MJC Mergener Hof
X-ORIGINAL-URL:https://mjctrier.de
X-WR-CALDESC:Veranstaltungen für MJC Mergener Hof
REFRESH-INTERVAL;VALUE=DURATION:PT1H
X-Robots-Tag:noindex
X-PUBLISHED-TTL:PT1H
BEGIN:VTIMEZONE
TZID:Europe/Berlin
BEGIN:DAYLIGHT
TZOFFSETFROM:+0100
TZOFFSETTO:+0200
TZNAME:CEST
DTSTART:20240331T010000
END:DAYLIGHT
BEGIN:STANDARD
TZOFFSETFROM:+0200
TZOFFSETTO:+0100
TZNAME:CET
DTSTART:20241027T010000
END:STANDARD
BEGIN:DAYLIGHT
TZOFFSETFROM:+0100
TZOFFSETTO:+0200
TZNAME:CEST
DTSTART:20250330T010000
END:DAYLIGHT
BEGIN:STANDARD
TZOFFSETFROM:+0200
TZOFFSETTO:+0100
TZNAME:CET
DTSTART:20251026T010000
END:STANDARD
BEGIN:DAYLIGHT
TZOFFSETFROM:+0100
TZOFFSETTO:+0200
TZNAME:CEST
DTSTART:20260329T010000
END:DAYLIGHT
BEGIN:STANDARD
TZOFFSETFROM:+0200
TZOFFSETTO:+0100
TZNAME:CET
DTSTART:20261025T010000
END:STANDARD
END:VTIMEZONE
BEGIN:VEVENT
DTSTART;TZID=Europe/Berlin:20250210T200000
DTEND;TZID=Europe/Berlin:20250210T230000
DTSTAMP:20260419T171413
CREATED:20240927T123004Z
LAST-MODIFIED:20240930T083308Z
UID:7880-1739217600-1739228400@mjctrier.de
SUMMARY:XIU XIU
DESCRIPTION:Swamp Booking & Mergener Hof präsentieren: \nXIU XIU\n+ KEE AVIL \nMergener Hof Trier \nEinlass: 19:00 Uhr\, Beginn: 20:00 Uhr \nInfos:\nXiu Xiu sind mit ihrem neuen Album „13“ Frank Beltrame Italian Stiletto with Bison Horn Grips“ zurück in Trier. \nIhr Sound ist eine Mischung aus britischem Post-Punk und Synthie-Pop\, Noise und experimenteller Musik. 2002 durch das einzig konstante Mitglied Jamie Steward in San Jose\, Kalifornien\, gegründet\, sind Xiu Xiu seitdem unermüdlich durch die ganze Welt getourt und über 15 Alben inkl. diverser Kollaborationsalben wurden bisher veröffentlicht. Seit 2009 ist Angela Seo ebenfalls Mitglied der Band. \nXiu Xiu wurden schon als “selbstgeißelnd”\, “hart”\, “brutal”\, “schockierend” und “pervers” bezeichnet\, aber auch als “genial”\, “brillant”\, “einzigartig”\, “fantasievoll”\, “erleuchtend” und “zum Dahinschmelzen.” Sie haben mit zahllosen fantastischen anderen Künstler*innen zusammengearbeitet\, zum Beispiel Mitski\, Swans\, Deerhoof\, Chelsea Wolfe\, Sharon Van Etten\, um nur ein paar zu nennen. Vom melancholisch-melodischem Wave und Synthpop der 80s bis zu Free Jazz und Noise Experimenten schaffen sie es\, immer wieder mit ihren Alben und ihren intensiven Liveshows zu überraschen und zu berühren. Musik für die Momente\, in denen die harte Realität des Lebens auf seine existenziellen Geheimnisse trifft. Ein tiefes Gefühl emotionaler Verletzlichkeit zieht sich durch die Musik der Gruppe\, aber auch ein Geist der Offenheit und des Experimentierens\, während sie in das klangliche Unbekannte blicken und Momente der Katharsis schaffen\, indem sie sich Ausbrüche von Lärm und andere ungewöhnliche Klänge zunutze machen. \nDie Produzentin Kee Avil aus Montreal kombiniert Gitarre\, Stimme und elektronische Produktion zu dekonstruierten Songs\, die von einer unverwechselbaren Mischung aus Avant-Pop\, Glitch\, Post-Industrial und experimenteller Folk-Sensibilität geprägt sind. Ihr letztes Album „Spine“ wurde im Mai 2024 auf Constellation als „Bandcamp Album of the Day“ veröffentlicht und von der Kritik hoch gelobt. „Spine“ erweitert die Klangpalette von Kee Avil mit intensiver Detailarbeit und offenbart eine überzeugende neue Stimme in der experimentellen Songkunst\, die sich an PJ Harvey\, Eartheater\, Shygirl\, SOPHIE und Lucretia Dalt orientiert\, wo Juana Molina mit Coil zusammenarbeitet oder Grouper mit Autechre verschmilzt. \nTickets:\nTicket-Regional\nEventim-Shop\nEventim \nLinks:\nhttps://www.xiuxiu.org/\nhttps://xiuxiu.bandcamp.com/\nhttps://keeavil.com/\nhttps://keeavil.bandcamp.com/
URL:https://mjctrier.de/event/xiu-xiu/
LOCATION:Mergener Hof\, Rindertanzstr. 4\, Trier\, 54290\, Deutschland
CATEGORIES:Konzert
ATTACH;FMTTYPE=image/jpeg:https://mjctrier.de/wp-content/uploads/XIU-XIU-Promo_Website-scaled.jpg
ORGANIZER;CN="Mergener Hof":MAILTO:info@mjctrier.de
END:VEVENT
END:VCALENDAR